BEGIN:VCALENDAR
VERSION:2.0
PRODID:icalendar-ruby
CALSCALE:GREGORIAN
METHOD:PUBLISH
BEGIN:VEVENT
DTSTAMP:20260425T153418Z
UID:076c13bc-8c94-4d16-b916-0e448c965723
DTSTART;VALUE=DATE:20170925
DTEND;VALUE=DATE:20170925
DESCRIPTION:Grand Prix BMX at SoCal Fair
LOCATION:18700 Lake Perris Dr  Perris CA 92571 USA
SUMMARY:Practice
URL:/site/bmx_races/329474
END:VEVENT
END:VCALENDAR
