BEGIN:VCALENDAR
VERSION:2.0
PRODID:icalendar-ruby
CALSCALE:GREGORIAN
METHOD:PUBLISH
BEGIN:VEVENT
DTSTAMP:20260421T071020Z
UID:ae57b881-cbc7-4d2f-a0ee-ba2e2871410e
DTSTART;VALUE=DATE:20170405
DTEND;VALUE=DATE:20170405
DESCRIPTION:Indy Cycloplex BMX
LOCATION:3649 Cold Spring Road  Adjacent To The Major Taylor Velodrome INDI
 ANAPOLIS IN 46222 USA
SUMMARY:Practice
URL:/site/bmx_races/329764
END:VEVENT
END:VCALENDAR
