BEGIN:VCALENDAR
VERSION:2.0
PRODID:icalendar-ruby
CALSCALE:GREGORIAN
METHOD:PUBLISH
BEGIN:VEVENT
DTSTAMP:20260421T071050Z
UID:e7a3cd60-8f44-4662-8ccc-13e82f3c6be7
DTSTART;VALUE=DATE:20170419
DTEND;VALUE=DATE:20170419
DESCRIPTION:Indy Cycloplex BMX
LOCATION:3649 Cold Spring Road  Adjacent To The Major Taylor Velodrome INDI
 ANAPOLIS IN 46222 USA
SUMMARY:Practice
URL:/site/bmx_races/329770
END:VEVENT
END:VCALENDAR
