BEGIN:VCALENDAR
VERSION:2.0
PRODID:icalendar-ruby
CALSCALE:GREGORIAN
METHOD:PUBLISH
BEGIN:VEVENT
DTSTAMP:20260419T134540Z
UID:ce4c0be4-7a4f-4518-b023-acd25997b1a0
DTSTART;VALUE=DATE:20171028
DTEND;VALUE=DATE:20171028
DESCRIPTION:Dacono BMX
LOCATION:113 Forest Ave  Dacono CO 80514 USA
SUMMARY:Standard Single Single
URL:/site/bmx_races/330200
END:VEVENT
END:VCALENDAR
