BEGIN:VCALENDAR
VERSION:2.0
PRODID:icalendar-ruby
CALSCALE:GREGORIAN
METHOD:PUBLISH
BEGIN:VEVENT
DTSTAMP:20260424T051726Z
UID:25eede7d-f96f-405f-9903-69a4228e7fcf
DTSTART;VALUE=DATE:20170625
DTEND;VALUE=DATE:20170625
DESCRIPTION:Chesapeake BMX
LOCATION:726 Donaldson Avenue  Severn MD 21144 USA
SUMMARY:Standard Single Single
URL:/site/bmx_races/330385
END:VEVENT
END:VCALENDAR
