BEGIN:VCALENDAR
VERSION:2.0
PRODID:icalendar-ruby
CALSCALE:GREGORIAN
METHOD:PUBLISH
BEGIN:VEVENT
DTSTAMP:20260424T094638Z
UID:443891d2-d832-472b-9848-29ac27712fb5
DTSTART;VALUE=DATE:20171020
DTEND;VALUE=DATE:20171020
DESCRIPTION:Chesapeake BMX
LOCATION:726 Donaldson Avenue  Severn MD 21144 USA
SUMMARY:Standard Single Single
URL:/site/bmx_races/330418
END:VEVENT
END:VCALENDAR
