BEGIN:VCALENDAR
VERSION:2.0
PRODID:icalendar-ruby
CALSCALE:GREGORIAN
METHOD:PUBLISH
BEGIN:VEVENT
DTSTAMP:20260424T174446Z
UID:8b57d0fe-c72f-4aab-83e1-f2003b485f91
DTSTART;VALUE=DATE:20170204
DTEND;VALUE=DATE:20170204
DESCRIPTION:Black Mountain BMX
LOCATION:24024 N 11th St  Phoenix AZ 85024 USA
SUMMARY:Standard Double Double
URL:/site/bmx_races/330908
END:VEVENT
END:VCALENDAR
