BEGIN:VCALENDAR
VERSION:2.0
PRODID:icalendar-ruby
CALSCALE:GREGORIAN
METHOD:PUBLISH
BEGIN:VEVENT
DTSTAMP:20260424T034832Z
UID:d631c84b-b155-4a8d-b82b-22fc0fb4df51
DTSTART;VALUE=DATE:20170916
DTEND;VALUE=DATE:20170916
DESCRIPTION:ORL BMX
LOCATION:4801 W Colonial Dr  Orlando FL 32808 USA
SUMMARY:Standard Single Single
URL:/site/bmx_races/331118
END:VEVENT
END:VCALENDAR
