BEGIN:VCALENDAR
VERSION:2.0
PRODID:icalendar-ruby
CALSCALE:GREGORIAN
METHOD:PUBLISH
BEGIN:VEVENT
DTSTAMP:20260422T180943Z
UID:6ac9b034-3dd8-49c4-bb9b-895766cd54dd
DTSTART;VALUE=DATE:20171210
DTEND;VALUE=DATE:20171210
DESCRIPTION:Spreckels Park BMX
LOCATION:941 Spreckels Ave  Manteca CA 95336 USA
SUMMARY:Standard Single Single
URL:/site/bmx_races/331406
END:VEVENT
END:VCALENDAR
