BEGIN:VCALENDAR
VERSION:2.0
PRODID:icalendar-ruby
CALSCALE:GREGORIAN
METHOD:PUBLISH
BEGIN:VEVENT
DTSTAMP:20260419T224920Z
UID:eed9293d-cade-4101-b1f0-d9cb30a929d7
DTSTART;VALUE=DATE:20170113
DTEND;VALUE=DATE:20170113
DESCRIPTION:Tucson BMX
LOCATION:9245 E Irvington  Tucson AZ 85730 USA
SUMMARY:Standard Single Single
URL:/site/bmx_races/332694
END:VEVENT
END:VCALENDAR
