BEGIN:VCALENDAR
VERSION:2.0
PRODID:icalendar-ruby
CALSCALE:GREGORIAN
METHOD:PUBLISH
BEGIN:VEVENT
DTSTAMP:20260423T072536Z
UID:f9d2a591-422e-4cc0-887c-86d7bd2dfa98
DTSTART;VALUE=DATE:20170610
DTEND;VALUE=DATE:20170610
DESCRIPTION:Lone Star BMX
LOCATION:3950 Eisenhauer Rd  San Antonio TX 78218 USA
SUMMARY:Standard Single Single
URL:/site/bmx_races/332925
END:VEVENT
END:VCALENDAR
