BEGIN:VCALENDAR
VERSION:2.0
PRODID:icalendar-ruby
CALSCALE:GREGORIAN
METHOD:PUBLISH
BEGIN:VEVENT
DTSTAMP:20260424T044304Z
UID:49cdad90-c7f4-4967-97d1-583847b9cacd
DTSTART;VALUE=DATE:20170923
DTEND;VALUE=DATE:20170923
DESCRIPTION:Lone Star BMX
LOCATION:3950 Eisenhauer Rd  San Antonio TX 78218 USA
SUMMARY:Standard Single Single
URL:/site/bmx_races/332970
END:VEVENT
END:VCALENDAR
