BEGIN:VCALENDAR
VERSION:2.0
PRODID:icalendar-ruby
CALSCALE:GREGORIAN
METHOD:PUBLISH
BEGIN:VEVENT
DTSTAMP:20260421T234044Z
UID:d9e966b4-8a72-4745-b10e-71fa9f2c14df
DTSTART;VALUE=DATE:20170204
DTEND;VALUE=DATE:20170204
DESCRIPTION:Sports Park BMX
LOCATION:6901 N Casa Grande Highway  Tucson AZ 85743 USA
SUMMARY:Local Race Single
URL:/site/bmx_races/333095
END:VEVENT
END:VCALENDAR
