BEGIN:VCALENDAR
VERSION:2.0
PRODID:icalendar-ruby
CALSCALE:GREGORIAN
METHOD:PUBLISH
BEGIN:VEVENT
DTSTAMP:20260421T220133Z
UID:c9b37d97-4056-4a59-b796-07e47f212e0c
DTSTART;VALUE=DATE:20170304
DTEND;VALUE=DATE:20170304
DESCRIPTION:Sports Park BMX
LOCATION:6901 N Casa Grande Highway  Tucson AZ 85743 USA
SUMMARY:Standard Single Single
URL:/site/bmx_races/333103
END:VEVENT
END:VCALENDAR
