BEGIN:VCALENDAR
VERSION:2.0
PRODID:icalendar-ruby
CALSCALE:GREGORIAN
METHOD:PUBLISH
BEGIN:VEVENT
DTSTAMP:20260421T121838Z
UID:c41cc752-61f4-4edc-80cb-7bed78c58bd3
DTSTART;VALUE=DATE:20170920
DTEND;VALUE=DATE:20170920
DESCRIPTION:Sports Park BMX
LOCATION:6901 N Casa Grande Highway  Tucson AZ 85743 USA
SUMMARY:Standard Single Single
URL:/site/bmx_races/333160
END:VEVENT
END:VCALENDAR
