BEGIN:VCALENDAR
VERSION:2.0
PRODID:icalendar-ruby
CALSCALE:GREGORIAN
METHOD:PUBLISH
BEGIN:VEVENT
DTSTAMP:20260421T090432Z
UID:6c536a87-7b2f-4db4-9a10-7cbcee7368bc
DTSTART;VALUE=DATE:20171125
DTEND;VALUE=DATE:20171125
DESCRIPTION:Sports Park BMX
LOCATION:6901 N Casa Grande Highway  Tucson AZ 85743 USA
SUMMARY:Local Race Single
URL:/site/bmx_races/333179
END:VEVENT
END:VCALENDAR
