BEGIN:VCALENDAR
VERSION:2.0
PRODID:icalendar-ruby
CALSCALE:GREGORIAN
METHOD:PUBLISH
BEGIN:VEVENT
DTSTAMP:20260420T143834Z
UID:9dceaeb2-9715-44da-8ac0-35a52ceefc39
DTSTART;VALUE=DATE:20161204
DTEND;VALUE=DATE:20161204
DESCRIPTION:Mag Ridge BMX Park
LOCATION:344 Oldtown Crossing  Ridgeland MS 39157 USA
SUMMARY:Practice
URL:/site/bmx_races/333220
END:VEVENT
END:VCALENDAR
