BEGIN:VCALENDAR
VERSION:2.0
PRODID:icalendar-ruby
CALSCALE:GREGORIAN
METHOD:PUBLISH
BEGIN:VEVENT
DTSTAMP:20260420T161455Z
UID:674e554b-41ad-4660-bf58-28dd88dff9b5
DTSTART;VALUE=DATE:20161120
DTEND;VALUE=DATE:20161120
DESCRIPTION:Mag Ridge BMX Park
LOCATION:344 Oldtown Crossing  Ridgeland MS 39157 USA
SUMMARY:Practice
URL:/site/bmx_races/333222
END:VEVENT
END:VCALENDAR
