BEGIN:VCALENDAR
VERSION:2.0
PRODID:icalendar-ruby
CALSCALE:GREGORIAN
METHOD:PUBLISH
BEGIN:VEVENT
DTSTAMP:20260420T225254Z
UID:74cbd7e6-035f-4ee3-b47a-41a30afaa375
DTSTART;VALUE=DATE:20170727
DTEND;VALUE=DATE:20170727
DESCRIPTION:Rock City BMX
LOCATION:3300 10 Mile Road  Rockford MI 49341 USA
SUMMARY:Practice
URL:/site/bmx_races/333414
END:VEVENT
END:VCALENDAR
