BEGIN:VCALENDAR
VERSION:2.0
PRODID:icalendar-ruby
CALSCALE:GREGORIAN
METHOD:PUBLISH
BEGIN:VEVENT
DTSTAMP:20260424T043049Z
UID:15bc7123-e881-42fe-99e3-40c3985da27b
DTSTART;VALUE=DATE:20170513
DTEND;VALUE=DATE:20170513
DESCRIPTION:Yukon BMX
LOCATION:Taylor Park Sports Complex   410 N 11th St Yukon OK 73064 USA
SUMMARY:Standard Single Single
URL:/site/bmx_races/333544
END:VEVENT
END:VCALENDAR
