BEGIN:VCALENDAR
VERSION:2.0
PRODID:icalendar-ruby
CALSCALE:GREGORIAN
METHOD:PUBLISH
BEGIN:VEVENT
DTSTAMP:20260424T043014Z
UID:3c2d54bf-3655-4767-a1de-fb1ef40e56bb
DTSTART;VALUE=DATE:20170527
DTEND;VALUE=DATE:20170527
DESCRIPTION:Yukon BMX
LOCATION:Taylor Park Sports Complex   410 N 11th St Yukon OK 73064 USA
SUMMARY:Standard Single Single
URL:/site/bmx_races/333548
END:VEVENT
END:VCALENDAR
