BEGIN:VCALENDAR
VERSION:2.0
PRODID:icalendar-ruby
CALSCALE:GREGORIAN
METHOD:PUBLISH
BEGIN:VEVENT
DTSTAMP:20260424T030241Z
UID:02a39b77-b9e3-44a9-9175-c150c066f49f
DTSTART;VALUE=DATE:20170620
DTEND;VALUE=DATE:20170620
DESCRIPTION:Yukon BMX
LOCATION:Taylor Park Sports Complex   410 N 11th St Yukon OK 73064 USA
SUMMARY:Practice
URL:/site/bmx_races/333555
END:VEVENT
END:VCALENDAR
