BEGIN:VCALENDAR
VERSION:2.0
PRODID:icalendar-ruby
CALSCALE:GREGORIAN
METHOD:PUBLISH
BEGIN:VEVENT
DTSTAMP:20260424T065047Z
UID:c1c13831-ea49-4a06-a381-71335c5a6d00
DTSTART;VALUE=DATE:20170821
DTEND;VALUE=DATE:20170821
DESCRIPTION:Bigfoot BMX
LOCATION:600 128th St Se  Everett WA 98201 USA
SUMMARY:Local Race Single
URL:/site/bmx_races/333629
END:VEVENT
END:VCALENDAR
