BEGIN:VCALENDAR
VERSION:2.0
PRODID:icalendar-ruby
CALSCALE:GREGORIAN
METHOD:PUBLISH
BEGIN:VEVENT
DTSTAMP:20260423T023503Z
UID:451117d3-b635-40ab-86e3-baa7854cf694
DTSTART;VALUE=DATE:20170402
DTEND;VALUE=DATE:20170402
DESCRIPTION:Tampa BMX Raceway\, Inc.
LOCATION:17302 Dale Mabry Hwy North  Lutz FL 33548 USA
SUMMARY:Standard Single Single
URL:/site/bmx_races/333972
END:VEVENT
END:VCALENDAR
