BEGIN:VCALENDAR
VERSION:2.0
PRODID:icalendar-ruby
CALSCALE:GREGORIAN
METHOD:PUBLISH
BEGIN:VEVENT
DTSTAMP:20260424T120254Z
UID:86bc3fc3-8352-4da1-8555-e89d07545221
DTSTART;VALUE=DATE:20170701
DTEND;VALUE=DATE:20170701
DESCRIPTION:Imagination Glen BMX
LOCATION:2190 N State Rd 149  Portage IN 46304 USA
SUMMARY:Standard Single Single
URL:/site/bmx_races/334285
END:VEVENT
END:VCALENDAR
