BEGIN:VCALENDAR
VERSION:2.0
PRODID:icalendar-ruby
CALSCALE:GREGORIAN
METHOD:PUBLISH
BEGIN:VEVENT
DTSTAMP:20260424T200455Z
UID:978761f9-e986-40b1-bd42-a88621a9a9e0
DTSTART;VALUE=DATE:20170406
DTEND;VALUE=DATE:20170406
DESCRIPTION:Goodyear BMX Raceway
LOCATION:15660 W Roeser Rd  Goodyear AZ 85338 USA
SUMMARY:Practice
URL:/site/bmx_races/334496
END:VEVENT
END:VCALENDAR
