BEGIN:VCALENDAR
VERSION:2.0
PRODID:icalendar-ruby
CALSCALE:GREGORIAN
METHOD:PUBLISH
BEGIN:VEVENT
DTSTAMP:20260424T200512Z
UID:9e655129-4fe8-4a29-be82-251fd17de36d
DTSTART;VALUE=DATE:20170413
DTEND;VALUE=DATE:20170413
DESCRIPTION:Goodyear BMX Raceway
LOCATION:15660 W Roeser Rd  Goodyear AZ 85338 USA
SUMMARY:Practice
URL:/site/bmx_races/334499
END:VEVENT
END:VCALENDAR
