BEGIN:VCALENDAR
VERSION:2.0
PRODID:icalendar-ruby
CALSCALE:GREGORIAN
METHOD:PUBLISH
BEGIN:VEVENT
DTSTAMP:20260424T135318Z
UID:a9e2afe5-2a5e-4333-998f-646e8f1069a8
DTSTART;VALUE=DATE:20170801
DTEND;VALUE=DATE:20170801
DESCRIPTION:Goodyear BMX Raceway
LOCATION:15660 W Roeser Rd  Goodyear AZ 85338 USA
SUMMARY:Standard Single Single
URL:/site/bmx_races/334546
END:VEVENT
END:VCALENDAR
