BEGIN:VCALENDAR
VERSION:2.0
PRODID:icalendar-ruby
CALSCALE:GREGORIAN
METHOD:PUBLISH
BEGIN:VEVENT
DTSTAMP:20260424T104821Z
UID:55753bbc-0935-44cd-b9ae-30202c8ae5bf
DTSTART;VALUE=DATE:20171026
DTEND;VALUE=DATE:20171026
DESCRIPTION:Goodyear BMX Raceway
LOCATION:15660 W Roeser Rd  Goodyear AZ 85338 USA
SUMMARY:Practice
URL:/site/bmx_races/334583
END:VEVENT
END:VCALENDAR
