BEGIN:VCALENDAR
VERSION:2.0
PRODID:icalendar-ruby
CALSCALE:GREGORIAN
METHOD:PUBLISH
BEGIN:VEVENT
DTSTAMP:20260424T024649Z
UID:5cce2ecd-ce22-40f6-ae07-fcb94fd8c55b
DTSTART;VALUE=DATE:20170802
DTEND;VALUE=DATE:20170802
DESCRIPTION:CNY BMX
LOCATION:408 Pritchard Ave  Bridgewater NY 13313 USA
SUMMARY:Standard Single Single
URL:/site/bmx_races/334749
END:VEVENT
END:VCALENDAR
