BEGIN:VCALENDAR
VERSION:2.0
PRODID:icalendar-ruby
CALSCALE:GREGORIAN
METHOD:PUBLISH
BEGIN:VEVENT
DTSTAMP:20260421T041249Z
UID:d962afbe-d629-4b85-bcdb-2f9e474df89b
DTSTART;VALUE=DATE:20170829
DTEND;VALUE=DATE:20170829
DESCRIPTION:Sandy Ridge BMX
LOCATION:1200 Keys Ferry Rd  McDonough GA 30253 USA
SUMMARY:Practice
URL:/site/bmx_races/334888
END:VEVENT
END:VCALENDAR
