BEGIN:VCALENDAR
VERSION:2.0
PRODID:icalendar-ruby
CALSCALE:GREGORIAN
METHOD:PUBLISH
BEGIN:VEVENT
DTSTAMP:20260421T010026Z
UID:70e0c298-d40a-4918-b07b-1c6c706858ee
DTSTART;VALUE=DATE:20171028
DTEND;VALUE=DATE:20171028
DESCRIPTION:Sandy Ridge BMX
LOCATION:1200 Keys Ferry Rd  McDonough GA 30253 USA
SUMMARY:Local Race Single
URL:/site/bmx_races/334902
END:VEVENT
END:VCALENDAR
