BEGIN:VCALENDAR
VERSION:2.0
PRODID:icalendar-ruby
CALSCALE:GREGORIAN
METHOD:PUBLISH
BEGIN:VEVENT
DTSTAMP:20260424T130347Z
UID:3a30d54f-c688-4387-9d93-79fe6b2a3713
DTSTART;VALUE=DATE:20170820
DTEND;VALUE=DATE:20170820
DESCRIPTION:St. Cloud BMX
LOCATION:2401 Peghorn Way  St. Cloud FL 34769 USA
SUMMARY:Standard Double Double
URL:/site/bmx_races/334974
END:VEVENT
END:VCALENDAR
