BEGIN:VCALENDAR
VERSION:2.0
PRODID:icalendar-ruby
CALSCALE:GREGORIAN
METHOD:PUBLISH
BEGIN:VEVENT
DTSTAMP:20260421T164332Z
UID:8d4800fb-a40b-42b6-a382-b3bbcf3dced8
DTSTART;VALUE=DATE:20170403
DTEND;VALUE=DATE:20170403
DESCRIPTION:Daytona BMX
LOCATION:1670 Strickland Range Rd  Holly Hill FL 32117 USA
SUMMARY:Practice
URL:/site/bmx_races/335203
END:VEVENT
END:VCALENDAR
