BEGIN:VCALENDAR
VERSION:2.0
PRODID:icalendar-ruby
CALSCALE:GREGORIAN
METHOD:PUBLISH
BEGIN:VEVENT
DTSTAMP:20260421T164235Z
UID:b346ca04-2c6c-438d-abed-17f829be4079
DTSTART;VALUE=DATE:20170426
DTEND;VALUE=DATE:20170426
DESCRIPTION:Daytona BMX
LOCATION:1670 Strickland Range Rd  Holly Hill FL 32117 USA
SUMMARY:Practice
URL:/site/bmx_races/335210
END:VEVENT
END:VCALENDAR
