BEGIN:VCALENDAR
VERSION:2.0
PRODID:icalendar-ruby
CALSCALE:GREGORIAN
METHOD:PUBLISH
BEGIN:VEVENT
DTSTAMP:20260423T063525Z
UID:c0b4d697-03d3-45af-9209-2902553671da
DTSTART;VALUE=DATE:20170419
DTEND;VALUE=DATE:20170419
DESCRIPTION:HD BMX
LOCATION:17427 Live Oak St  Hesperia CA 92345 USA
SUMMARY:Standard Single Single
URL:/site/bmx_races/335800
END:VEVENT
END:VCALENDAR
