BEGIN:VCALENDAR
VERSION:2.0
PRODID:icalendar-ruby
CALSCALE:GREGORIAN
METHOD:PUBLISH
BEGIN:VEVENT
DTSTAMP:20260421T151628Z
UID:d2cf3ccf-4f49-49b7-b508-938ac710bfa7
DTSTART;VALUE=DATE:20170502
DTEND;VALUE=DATE:20170502
DESCRIPTION:Elkhorn BMX
LOCATION:848 Elkhorn Blvd  Rio Linda CA 95673 USA
SUMMARY:Standard Single Single
URL:/site/bmx_races/336269
END:VEVENT
END:VCALENDAR
