BEGIN:VCALENDAR
VERSION:2.0
PRODID:icalendar-ruby
CALSCALE:GREGORIAN
METHOD:PUBLISH
BEGIN:VEVENT
DTSTAMP:20260421T070921Z
UID:8e4d068b-4d4b-4201-bc69-f50b91ba86a3
DTSTART;VALUE=DATE:20171006
DTEND;VALUE=DATE:20171006
DESCRIPTION:Elkhorn BMX
LOCATION:848 Elkhorn Blvd  Rio Linda CA 95673 USA
SUMMARY:Standard Single Single
URL:/site/bmx_races/336314
END:VEVENT
END:VCALENDAR
