BEGIN:VCALENDAR
VERSION:2.0
PRODID:icalendar-ruby
CALSCALE:GREGORIAN
METHOD:PUBLISH
BEGIN:VEVENT
DTSTAMP:20260421T133602Z
UID:031e7ce0-5dfc-463b-bfac-9826a7320609
DTSTART;VALUE=DATE:20170627
DTEND;VALUE=DATE:20170627
DESCRIPTION:Elkhorn BMX
LOCATION:848 Elkhorn Blvd  Rio Linda CA 95673 USA
SUMMARY:Local Race Single
URL:/site/bmx_races/336376
END:VEVENT
END:VCALENDAR
