BEGIN:VCALENDAR
VERSION:2.0
PRODID:icalendar-ruby
CALSCALE:GREGORIAN
METHOD:PUBLISH
BEGIN:VEVENT
DTSTAMP:20260421T120125Z
UID:51e80a39-a9e8-4ac6-9adb-d57495ccdd25
DTSTART;VALUE=DATE:20170725
DTEND;VALUE=DATE:20170725
DESCRIPTION:Elkhorn BMX
LOCATION:848 Elkhorn Blvd  Rio Linda CA 95673 USA
SUMMARY:Local Race Single
URL:/site/bmx_races/336384
END:VEVENT
END:VCALENDAR
