BEGIN:VCALENDAR
VERSION:2.0
PRODID:icalendar-ruby
CALSCALE:GREGORIAN
METHOD:PUBLISH
BEGIN:VEVENT
DTSTAMP:20260421T071040Z
UID:9c93ab47-03ce-40c5-9294-b3b9bd4852de
DTSTART;VALUE=DATE:20171006
DTEND;VALUE=DATE:20171006
DESCRIPTION:Elkhorn BMX
LOCATION:848 Elkhorn Blvd  Rio Linda CA 95673 USA
SUMMARY:Local Race Single
URL:/site/bmx_races/336405
END:VEVENT
END:VCALENDAR
