BEGIN:VCALENDAR
VERSION:2.0
PRODID:icalendar-ruby
CALSCALE:GREGORIAN
METHOD:PUBLISH
BEGIN:VEVENT
DTSTAMP:20260421T052548Z
UID:b6c01196-c463-425f-a2cb-a6691fe6508f
DTSTART;VALUE=DATE:20171128
DTEND;VALUE=DATE:20171128
DESCRIPTION:Elkhorn BMX
LOCATION:848 Elkhorn Blvd  Rio Linda CA 95673 USA
SUMMARY:Local Race Single
URL:/site/bmx_races/336420
END:VEVENT
END:VCALENDAR
