BEGIN:VCALENDAR
VERSION:2.0
PRODID:icalendar-ruby
CALSCALE:GREGORIAN
METHOD:PUBLISH
BEGIN:VEVENT
DTSTAMP:20260424T112129Z
UID:a4e66d03-b7fb-4137-8d0d-20e85c448314
DTSTART;VALUE=DATE:20170113
DTEND;VALUE=DATE:20170113
DESCRIPTION:Cargill Park BMX
LOCATION:2800 Cargill Drive  Shreveport LA 71108 USA
SUMMARY:Practice
URL:/site/bmx_races/336676
END:VEVENT
END:VCALENDAR
