BEGIN:VCALENDAR
VERSION:2.0
PRODID:icalendar-ruby
CALSCALE:GREGORIAN
METHOD:PUBLISH
BEGIN:VEVENT
DTSTAMP:20260423T214203Z
UID:2e830cd8-87c8-42b3-bed6-e4efb9af1214
DTSTART;VALUE=DATE:20170428
DTEND;VALUE=DATE:20170428
DESCRIPTION:WALLA WALLA BMX
LOCATION:Fort Walla Walla Park   1898 Dalles Military Rd Walla Walla WA 993
 62 USA
SUMMARY:Standard Single Single
URL:/site/bmx_races/337346
END:VEVENT
END:VCALENDAR
