BEGIN:VCALENDAR
VERSION:2.0
PRODID:icalendar-ruby
CALSCALE:GREGORIAN
METHOD:PUBLISH
BEGIN:VEVENT
DTSTAMP:20260424T094634Z
UID:5597cf1d-b2c7-4246-b051-4bd827f78a65
DTSTART;VALUE=DATE:20170626
DTEND;VALUE=DATE:20170626
DESCRIPTION:Kelowna BMX
LOCATION:645 Dodd Rd  Kelowna BC V1X5H1 CAN
SUMMARY:Olympic Single
URL:/site/bmx_races/337546
END:VEVENT
END:VCALENDAR
