BEGIN:VCALENDAR
VERSION:2.0
PRODID:icalendar-ruby
CALSCALE:GREGORIAN
METHOD:PUBLISH
BEGIN:VEVENT
DTSTAMP:20260420T230513Z
UID:2995f51b-3543-4f9a-97d6-24dd209df6c1
DTSTART;VALUE=DATE:20170513
DTEND;VALUE=DATE:20170513
DESCRIPTION:Lexington BMX
LOCATION:1159 Nazareth Road  Lexington SC 29073 USA
SUMMARY:Local Race Single
URL:/site/bmx_races/337644
END:VEVENT
END:VCALENDAR
