BEGIN:VCALENDAR
VERSION:2.0
PRODID:icalendar-ruby
CALSCALE:GREGORIAN
METHOD:PUBLISH
BEGIN:VEVENT
DTSTAMP:20260422T233741Z
UID:3d79f41f-5f81-4167-965f-fd75ddb7eaec
DTSTART;VALUE=DATE:20170613
DTEND;VALUE=DATE:20170613
DESCRIPTION:Santa Clara PAL BMX
LOCATION:5401 Lafayette Street  Santa Clara CA 95051 USA
SUMMARY:Olympic Single
URL:/site/bmx_races/338148
END:VEVENT
END:VCALENDAR
