BEGIN:VCALENDAR
VERSION:2.0
PRODID:icalendar-ruby
CALSCALE:GREGORIAN
METHOD:PUBLISH
BEGIN:VEVENT
DTSTAMP:20260425T212228Z
UID:834ff94b-0692-4007-9241-209609edeea5
DTSTART;VALUE=DATE:20170211
DTEND;VALUE=DATE:20170211
DESCRIPTION:Circle City BMX
LOCATION:Westgate Park    100 Recreation Rd Dothan AL 36305 USA
SUMMARY:Standard Single Single
URL:/site/bmx_races/338840
END:VEVENT
END:VCALENDAR
