BEGIN:VCALENDAR
VERSION:2.0
PRODID:icalendar-ruby
CALSCALE:GREGORIAN
METHOD:PUBLISH
BEGIN:VEVENT
DTSTAMP:20260425T170807Z
UID:72175f52-d0bc-429a-bbba-10515a563607
DTSTART;VALUE=DATE:20170720
DTEND;VALUE=DATE:20170720
DESCRIPTION:Faribault BMX
LOCATION:South Alexander Park   1010 7th Avenue Nw Faribault MN 55021 USA
SUMMARY:Race For Life Double Double
URL:/site/bmx_races/339296
END:VEVENT
END:VCALENDAR
