BEGIN:VCALENDAR
VERSION:2.0
PRODID:icalendar-ruby
CALSCALE:GREGORIAN
METHOD:PUBLISH
BEGIN:VEVENT
DTSTAMP:20260424T161120Z
UID:e34266aa-fdb1-4f08-8e1a-322fc750ba5c
DTSTART;VALUE=DATE:20170522
DTEND;VALUE=DATE:20170522
DESCRIPTION:Penticton BMX
LOCATION:630 Munson Mountain Road  Penticton BC V2A 8S5 CAN
SUMMARY:Practice
URL:/site/bmx_races/339633
END:VEVENT
END:VCALENDAR
